BEGIN:VCALENDAR
VERSION:2.0
PRODID:-//TWV Helvetia - ECPv6.11.2.1//NONSGML v1.0//EN
CALSCALE:GREGORIAN
METHOD:PUBLISH
X-ORIGINAL-URL:https://twv-helvetia.ch
X-WR-CALDESC:Veranstaltungen für TWV Helvetia
REFRESH-INTERVAL;VALUE=DURATION:PT1H
X-Robots-Tag:noindex
X-PUBLISHED-TTL:PT1H
BEGIN:VTIMEZONE
TZID:Europe/Zurich
BEGIN:DAYLIGHT
TZOFFSETFROM:+0100
TZOFFSETTO:+0200
TZNAME:CEST
DTSTART:20190331T010000
END:DAYLIGHT
BEGIN:STANDARD
TZOFFSETFROM:+0200
TZOFFSETTO:+0100
TZNAME:CET
DTSTART:20191027T010000
END:STANDARD
BEGIN:DAYLIGHT
TZOFFSETFROM:+0100
TZOFFSETTO:+0200
TZNAME:CEST
DTSTART:20200329T010000
END:DAYLIGHT
BEGIN:STANDARD
TZOFFSETFROM:+0200
TZOFFSETTO:+0100
TZNAME:CET
DTSTART:20201025T010000
END:STANDARD
BEGIN:DAYLIGHT
TZOFFSETFROM:+0100
TZOFFSETTO:+0200
TZNAME:CEST
DTSTART:20210328T010000
END:DAYLIGHT
BEGIN:STANDARD
TZOFFSETFROM:+0200
TZOFFSETTO:+0100
TZNAME:CET
DTSTART:20211031T010000
END:STANDARD
BEGIN:DAYLIGHT
TZOFFSETFROM:+0100
TZOFFSETTO:+0200
TZNAME:CEST
DTSTART:20220327T010000
END:DAYLIGHT
BEGIN:STANDARD
TZOFFSETFROM:+0200
TZOFFSETTO:+0100
TZNAME:CET
DTSTART:20221030T010000
END:STANDARD
BEGIN:DAYLIGHT
TZOFFSETFROM:+0100
TZOFFSETTO:+0200
TZNAME:CEST
DTSTART:20230326T010000
END:DAYLIGHT
BEGIN:STANDARD
TZOFFSETFROM:+0200
TZOFFSETTO:+0100
TZNAME:CET
DTSTART:20231029T010000
END:STANDARD
BEGIN:DAYLIGHT
TZOFFSETFROM:+0100
TZOFFSETTO:+0200
TZNAME:CEST
DTSTART:20240331T010000
END:DAYLIGHT
BEGIN:STANDARD
TZOFFSETFROM:+0200
TZOFFSETTO:+0100
TZNAME:CET
DTSTART:20241027T010000
END:STANDARD
BEGIN:DAYLIGHT
TZOFFSETFROM:+0100
TZOFFSETTO:+0200
TZNAME:CEST
DTSTART:20250330T010000
END:DAYLIGHT
BEGIN:STANDARD
TZOFFSETFROM:+0200
TZOFFSETTO:+0100
TZNAME:CET
DTSTART:20251026T010000
END:STANDARD
BEGIN:DAYLIGHT
TZOFFSETFROM:+0100
TZOFFSETTO:+0200
TZNAME:CEST
DTSTART:20260329T010000
END:DAYLIGHT
BEGIN:STANDARD
TZOFFSETFROM:+0200
TZOFFSETTO:+0100
TZNAME:CET
DTSTART:20261025T010000
END:STANDARD
END:VTIMEZONE
BEGIN:VEVENT
DTSTART;TZID=Europe/Zurich:20260227T200000
DTEND;TZID=Europe/Zurich:20260227T230000
DTSTAMP:20260421T120114
CREATED:20251022T041243Z
LAST-MODIFIED:20251022T041243Z
UID:1469-1772222400-1772233200@twv-helvetia.ch
SUMMARY:AbschlussKneipe WinterSemester 2025/2026
DESCRIPTION:Am 27. Februar beenden wir das WinterSemester 2025/2026 in unserer Konstante. \nDie Abschlusskneipe startet um 20:00 h.c.t \nWir freuen uns auf euren Besuch. \nIch bin dabei \nWeitere Informationen findet ihr auf www.twv-helvetia.ch
URL:https://twv-helvetia.ch/veranstaltungen/abschlusskneipe-wintersemester-2025-2026/
LOCATION:Konstante\, Hauptstrasse 38\, Kreuzlingen\, Thurgau\, 8280\, Schweiz
END:VEVENT
BEGIN:VEVENT
DTSTART;TZID=Europe/Zurich:20260109T200000
DTEND;TZID=Europe/Zurich:20260109T230000
DTSTAMP:20260421T120114
CREATED:20251022T041022Z
LAST-MODIFIED:20251022T041022Z
UID:1466-1767988800-1767999600@twv-helvetia.ch
SUMMARY:AC | CommentKenntnisse auffrischen mit Hecht
DESCRIPTION:Am 09. Januar 2026 könnt ihr euere Comentkenntnisse auffrischen. \nAH Hecht wir zum FM und bringt euch vergessenes wieder bei. \nWir starten um 20:00 h.c.t \nHecht und die Aktivitas freut sich auf euren Besuch. \nIch bin dabei \nWeitere Informationen findet ihr auf www.twv-helvetia.ch
URL:https://twv-helvetia.ch/veranstaltungen/ac-commentkenntnisse-auffrischen-mit-hecht/
LOCATION:Konstante\, Hauptstrasse 38\, Kreuzlingen\, Thurgau\, 8280\, Schweiz
END:VEVENT
BEGIN:VEVENT
DTSTART;TZID=Europe/Zurich:20251205T200000
DTEND;TZID=Europe/Zurich:20251205T233000
DTSTAMP:20260421T120114
CREATED:20251022T040354Z
LAST-MODIFIED:20251022T040354Z
UID:1462-1764964800-1764977400@twv-helvetia.ch
SUMMARY:Krambambuli
DESCRIPTION:Am 05. Dezember 2025 findet das Highlight des Wintersemesters statt. \nDas Krambamuli startet um 20:00 h.c.t. in unserer Konstante. \nDie Brauer und wir freuen uns auf euren Besuch. \nJetzt anmelden \nWeitere Informationen findet ihr auf www.twv-helvetia.ch
URL:https://twv-helvetia.ch/veranstaltungen/krambambuli-4/
LOCATION:Konstante\, Hauptstrasse 38\, Kreuzlingen\, Thurgau\, 8280\, Schweiz
END:VEVENT
BEGIN:VEVENT
DTSTART;TZID=Europe/Zurich:20251030T200000
DTEND;TZID=Europe/Zurich:20251030T230000
DTSTAMP:20260421T120114
CREATED:20251022T035404Z
LAST-MODIFIED:20251028T040718Z
UID:1457-1761854400-1761865200@twv-helvetia.ch
SUMMARY:AntrittsKneipe
DESCRIPTION:Am 30. Oktober 2025 eröffnen wir das WinterSemester 2025/2026 in unserer Konstante. \nWir starten um 20:00 h.c.t \nWir freuen uns auf euren Besuch. \nIch bin dabei \nWeitere Informationen findet ihr auf www.twv-helvetia.ch
URL:https://twv-helvetia.ch/veranstaltungen/semesterantrittskneipe-3/
LOCATION:Konstante\, Hauptstrasse 38\, Kreuzlingen\, Thurgau\, 8280\, Schweiz
END:VEVENT
BEGIN:VEVENT
DTSTART;TZID=Europe/Zurich:20250707T200000
DTEND;TZID=Europe/Zurich:20250707T230000
DTSTAMP:20260421T120114
CREATED:20210916T134435Z
LAST-MODIFIED:20250505T151641Z
UID:1379-1751918400-1751929200@twv-helvetia.ch
SUMMARY:Semesterabschluss-Kneipe
DESCRIPTION:
URL:https://twv-helvetia.ch/veranstaltungen/semesterabschlusskneipe-ws2122/
LOCATION:Konstante\, Hauptstrasse 38\, Kreuzlingen\, Thurgau\, 8280\, Schweiz
END:VEVENT
BEGIN:VEVENT
DTSTART;TZID=Europe/Zurich:20250702T200000
DTEND;TZID=Europe/Zurich:20250702T230000
DTSTAMP:20260421T120114
CREATED:20250505T152115Z
LAST-MODIFIED:20250505T152115Z
UID:1439-1751486400-1751497200@twv-helvetia.ch
SUMMARY:BC
DESCRIPTION:
URL:https://twv-helvetia.ch/veranstaltungen/bc-5/
LOCATION:Konstante\, Hauptstrasse 38\, Kreuzlingen\, Thurgau\, 8280\, Schweiz
END:VEVENT
BEGIN:VEVENT
DTSTART;TZID=Europe/Zurich:20250614T200000
DTEND;TZID=Europe/Zurich:20250614T230000
DTSTAMP:20260421T120114
CREATED:20210916T134247Z
LAST-MODIFIED:20250505T152035Z
UID:1373-1749931200-1749942000@twv-helvetia.ch
SUMMARY:Mediteraner AC
DESCRIPTION:
URL:https://twv-helvetia.ch/veranstaltungen/fc-mit-brunch/
LOCATION:Konstante\, Hauptstrasse 38\, Kreuzlingen\, Thurgau\, 8280\, Schweiz
END:VEVENT
BEGIN:VEVENT
DTSTART;TZID=Europe/Zurich:20250524T120000
DTEND;TZID=Europe/Zurich:20250524T230000
DTSTAMP:20260421T120114
CREATED:20210916T134323Z
LAST-MODIFIED:20250506T072502Z
UID:1375-1748088000-1748127600@twv-helvetia.ch
SUMMARY:105. Stiftungsfest
DESCRIPTION:
URL:https://twv-helvetia.ch/veranstaltungen/ac-mit-vortrag/
LOCATION:Thurgau
END:VEVENT
BEGIN:VEVENT
DTSTART;TZID=Europe/Zurich:20250523T190000
DTEND;TZID=Europe/Zurich:20250523T230000
DTSTAMP:20260421T120114
CREATED:20250505T151446Z
LAST-MODIFIED:20250505T152252Z
UID:1440-1748026800-1748041200@twv-helvetia.ch
SUMMARY:Eröffnungsstamm
DESCRIPTION:
URL:https://twv-helvetia.ch/veranstaltungen/gc-mit-eroeffnungsstamm/
LOCATION:Konstante\, Hauptstrasse 38\, Kreuzlingen\, Thurgau\, 8280\, Schweiz
END:VEVENT
BEGIN:VEVENT
DTSTART;TZID=Europe/Zurich:20211210T200000
DTEND;TZID=Europe/Zurich:20211210T230000
DTSTAMP:20260421T120114
CREATED:20210916T134357Z
LAST-MODIFIED:20210916T134357Z
UID:1377-1639166400-1639177200@twv-helvetia.ch
SUMMARY:Krambambuli
DESCRIPTION:
URL:https://twv-helvetia.ch/veranstaltungen/krambambuli-3/
LOCATION:Konstante\, Hauptstrasse 38\, Kreuzlingen\, Thurgau\, 8280\, Schweiz
END:VEVENT
BEGIN:VEVENT
DTSTART;VALUE=DATE:20211009
DTEND;VALUE=DATE:20211010
DTSTAMP:20260421T120114
CREATED:20171018T175045Z
LAST-MODIFIED:20210607T200728Z
UID:388-1633737600-1633823999@twv-helvetia.ch
SUMMARY:100. Jubiläums-Stiftungsfest / 101. Stiftungsfest
DESCRIPTION:Nach Corona bedingter Absage im Sommer 2020 & 2021\, wird unser 100. Jubiläums-Stiftungsfest im Herbst 2021 nachgeholt!
URL:https://twv-helvetia.ch/veranstaltungen/101-stiftungsfest-herrencommers/
LOCATION:Thurgau
END:VEVENT
BEGIN:VEVENT
DTSTART;TZID=Europe/Zurich:20210925T200000
DTEND;TZID=Europe/Zurich:20210925T230000
DTSTAMP:20260421T120114
CREATED:20210916T133904Z
LAST-MODIFIED:20220327T203226Z
UID:1369-1632600000-1632610800@twv-helvetia.ch
SUMMARY:Semesterantritts-Kneipe
DESCRIPTION:
URL:https://twv-helvetia.ch/veranstaltungen/semesterantrittskneipe-ws2122/
LOCATION:Konstante\, Hauptstrasse 38\, Kreuzlingen\, Thurgau\, 8280\, Schweiz
END:VEVENT
BEGIN:VEVENT
DTSTART;TZID=Europe/Zurich:20210115T200000
DTEND;TZID=Europe/Zurich:20210115T200000
DTSTAMP:20260421T120114
CREATED:20200902T125719Z
LAST-MODIFIED:20200902T125719Z
UID:1326-1610740800-1610740800@twv-helvetia.ch
SUMMARY:Semesterabschluss-Kneipe / Vortrag Maximus
DESCRIPTION:
URL:https://twv-helvetia.ch/veranstaltungen/semesterabschluss-kneipe-vortrag-maximus/
LOCATION:Konstante\, Hauptstrasse 38\, Kreuzlingen\, Thurgau\, 8280\, Schweiz
END:VEVENT
BEGIN:VEVENT
DTSTART;VALUE=DATE:20201207
DTEND;VALUE=DATE:20201208
DTSTAMP:20260421T120114
CREATED:20170928T212414Z
LAST-MODIFIED:20170928T212414Z
UID:322-1607299200-1607385599@twv-helvetia.ch
SUMMARY:100 Jahre TWV Helvetia
DESCRIPTION:
URL:https://twv-helvetia.ch/veranstaltungen/100-jahre-twv-helvetia/
LOCATION:Konstante\, Hauptstrasse 38\, Kreuzlingen\, Thurgau\, 8280\, Schweiz
END:VEVENT
BEGIN:VEVENT
DTSTART;TZID=Europe/Zurich:20201120T200000
DTEND;TZID=Europe/Zurich:20201120T200000
DTSTAMP:20260421T120114
CREATED:20200902T125632Z
LAST-MODIFIED:20200902T125632Z
UID:1324-1605902400-1605902400@twv-helvetia.ch
SUMMARY:Krambambuli
DESCRIPTION:
URL:https://twv-helvetia.ch/veranstaltungen/krambambuli-2/
LOCATION:Konstante\, Hauptstrasse 38\, Kreuzlingen\, Thurgau\, 8280\, Schweiz
END:VEVENT
BEGIN:VEVENT
DTSTART;TZID=Europe/Zurich:20201016T200000
DTEND;TZID=Europe/Zurich:20201016T200000
DTSTAMP:20260421T120114
CREATED:20200902T125550Z
LAST-MODIFIED:20200902T125550Z
UID:1322-1602878400-1602878400@twv-helvetia.ch
SUMMARY:Semesterantritts-Kneipe / Burschung Zünd
DESCRIPTION:
URL:https://twv-helvetia.ch/veranstaltungen/semesterantritts-kneipe-burschung-zuend/
LOCATION:Konstante\, Hauptstrasse 38\, Kreuzlingen\, Thurgau\, 8280\, Schweiz
END:VEVENT
BEGIN:VEVENT
DTSTART;VALUE=DATE:20200620
DTEND;VALUE=DATE:20200621
DTSTAMP:20260421T120114
CREATED:20171018T175017Z
LAST-MODIFIED:20171018T175017Z
UID:386-1592611200-1592697599@twv-helvetia.ch
SUMMARY:100. Stiftungsfest
DESCRIPTION:
URL:https://twv-helvetia.ch/veranstaltungen/100-stiftungsfest/
LOCATION:Thurgau
END:VEVENT
BEGIN:VEVENT
DTSTART;TZID=Europe/Zurich:20200117T200000
DTEND;TZID=Europe/Zurich:20200117T230000
DTSTAMP:20260421T120114
CREATED:20190816T104811Z
LAST-MODIFIED:20200210T232911Z
UID:1261-1579291200-1579302000@twv-helvetia.ch
SUMMARY:Abschlusskneipe mit AHAC
DESCRIPTION:
URL:https://twv-helvetia.ch/veranstaltungen/semesterabschlusskneipe-2/
LOCATION:Konstante\, Hauptstrasse 38\, Kreuzlingen\, Thurgau\, 8280\, Schweiz
END:VEVENT
BEGIN:VEVENT
DTSTART;TZID=Europe/Zurich:20200105T100000
DTEND;TZID=Europe/Zurich:20200105T140000
DTSTAMP:20260421T120114
CREATED:20190924T221054Z
LAST-MODIFIED:20190924T221054Z
UID:1271-1578218400-1578232800@twv-helvetia.ch
SUMMARY:BC mit Brunch
DESCRIPTION:
URL:https://twv-helvetia.ch/veranstaltungen/bc-mit-brunch/
LOCATION:Konstante\, Hauptstrasse 38\, Kreuzlingen\, Thurgau\, 8280\, Schweiz
END:VEVENT
BEGIN:VEVENT
DTSTART;TZID=Europe/Zurich:20191213T200000
DTEND;TZID=Europe/Zurich:20191213T230000
DTSTAMP:20260421T120114
CREATED:20190816T104656Z
LAST-MODIFIED:20190924T220958Z
UID:1259-1576267200-1576278000@twv-helvetia.ch
SUMMARY:AC - Brandung
DESCRIPTION:
URL:https://twv-helvetia.ch/veranstaltungen/brandung/
LOCATION:Konstante\, Hauptstrasse 38\, Kreuzlingen\, Thurgau\, 8280\, Schweiz
END:VEVENT
BEGIN:VEVENT
DTSTART;TZID=Europe/Zurich:20191213T180000
DTEND;TZID=Europe/Zurich:20191213T200000
DTSTAMP:20260421T120114
CREATED:20190924T220839Z
LAST-MODIFIED:20190924T220903Z
UID:1267-1576260000-1576267200@twv-helvetia.ch
SUMMARY:BC
DESCRIPTION:
URL:https://twv-helvetia.ch/veranstaltungen/bc-4/
LOCATION:Konstante\, Hauptstrasse 38\, Kreuzlingen\, Thurgau\, 8280\, Schweiz
END:VEVENT
BEGIN:VEVENT
DTSTART;VALUE=DATE:20191116
DTEND;VALUE=DATE:20191117
DTSTAMP:20260421T120114
CREATED:20190816T104431Z
LAST-MODIFIED:20191029T200147Z
UID:1255-1573862400-1573948799@twv-helvetia.ch
SUMMARY:AHGV - Herbstfrass
DESCRIPTION:Helvetergruss zuvor! \nLieber N.N. \nDer AHCC freut sich\, alle Helveter inklusive Begleitung zum Herbstfrass im Gasthof Sternen in Salenstein einzuladen. Die vorausgehende AHGV findet im Kreis der Bundesbrüder statt: \nDatum: 16.11.2019 ab 14:00 \nOrt: Gasthof Sternen\, Eugensbergerstrasse 6\, 8268 Salenstein\nAnmeldeschluss: 2. November 2019 \nWir freuen uns auf eine spannende und interessante AHGV und den Herbstfrass im Kreis der Bundesbrüder und dem Damenflor. \nMit rot-weiss-rotem Farbengruss\nAndreas Strehler v/o K2 H! AHxxx \n\nTagesablauf Samstag\, 16. November 2019 \n14.00 h.c.t. Eintreffen der Helveter mit Begleitung im Gasthof Sternen \n14.30 h.s.t. AHGV im Gasthof Sternen \nIm Anschluss an die AHGV: Totenkneipe zu Ehren unserer verstorbenen Bundesbrüder \n15.00 h.c.t. Führung für die Gäste im Schloss Arenenberg \n18.30 h.c.t. Herbstfrass „Treberwurstessen“ im Saal des Gasthof Sternen Salenstein \nUnterlagen zum Herbstfrass \n\nTraktandenliste AHGV\nAbfolge und Zeiten\nMenü und Anmeldung zum Herbstfrass
URL:https://twv-helvetia.ch/veranstaltungen/ahgv-herbstfrass/
LOCATION:Thurgau
END:VEVENT
BEGIN:VEVENT
DTSTART;TZID=Europe/Zurich:20191101T200000
DTEND;TZID=Europe/Zurich:20191101T230000
DTSTAMP:20260421T120114
CREATED:20190816T104548Z
LAST-MODIFIED:20190924T220500Z
UID:1257-1572638400-1572649200@twv-helvetia.ch
SUMMARY:Krambambuli
DESCRIPTION:
URL:https://twv-helvetia.ch/veranstaltungen/krambambuli/
LOCATION:Konstante\, Hauptstrasse 38\, Kreuzlingen\, Thurgau\, 8280\, Schweiz
END:VEVENT
BEGIN:VEVENT
DTSTART;TZID=Europe/Zurich:20191019T200000
DTEND;TZID=Europe/Zurich:20191019T220000
DTSTAMP:20260421T120114
CREATED:20190816T102227Z
LAST-MODIFIED:20190816T102227Z
UID:1253-1571515200-1571522400@twv-helvetia.ch
SUMMARY:AHAC
DESCRIPTION:
URL:https://twv-helvetia.ch/veranstaltungen/ahac/
LOCATION:Thurgau
END:VEVENT
BEGIN:VEVENT
DTSTART;TZID=Europe/Zurich:20191006T110000
DTEND;TZID=Europe/Zurich:20191006T130000
DTSTAMP:20260421T120114
CREATED:20190816T102130Z
LAST-MODIFIED:20191003T224000Z
UID:1251-1570359600-1570366800@twv-helvetia.ch
SUMMARY:BC
DESCRIPTION:
URL:https://twv-helvetia.ch/veranstaltungen/bc-3/
LOCATION:Konstante\, Hauptstrasse 38\, Kreuzlingen\, Thurgau\, 8280\, Schweiz
END:VEVENT
BEGIN:VEVENT
DTSTART;TZID=Europe/Zurich:20191003T200000
DTEND;TZID=Europe/Zurich:20191003T220000
DTSTAMP:20260421T120114
CREATED:20190816T102007Z
LAST-MODIFIED:20190924T220352Z
UID:1249-1570132800-1570140000@twv-helvetia.ch
SUMMARY:Antrittskneipe
DESCRIPTION:
URL:https://twv-helvetia.ch/veranstaltungen/semesterantrittskneipe-2/
LOCATION:Konstante\, Hauptstrasse 38\, Kreuzlingen\, Thurgau\, 8280\, Schweiz
END:VEVENT
BEGIN:VEVENT
DTSTART;TZID=Europe/Zurich:20190628T200000
DTEND;TZID=Europe/Zurich:20190628T230000
DTSTAMP:20260421T120114
CREATED:20190316T122224Z
LAST-MODIFIED:20190316T122224Z
UID:601-1561752000-1561762800@twv-helvetia.ch
SUMMARY:Semesterabschlusskneipe
DESCRIPTION:
URL:https://twv-helvetia.ch/veranstaltungen/semesterabschlusskneipe/
LOCATION:Konstante\, Hauptstrasse 38\, Kreuzlingen\, Thurgau\, 8280\, Schweiz
END:VEVENT
BEGIN:VEVENT
DTSTART;VALUE=DATE:20190615
DTEND;VALUE=DATE:20190616
DTSTAMP:20260421T120114
CREATED:20171018T174943Z
LAST-MODIFIED:20190614T134315Z
UID:384-1560556800-1560643199@twv-helvetia.ch
SUMMARY:99. Stiftungsfest / Herrencommers
DESCRIPTION:14:00 h	h.c.t.	Eintreffen der Helveter im Restaurant Schiff an der Seestrasse 4; 8268 Mannenbach-Salenstein.\n14:30 h	h.s.t.	Altherren-Generalconvent mit Totenkneipe im Bankettsaal im Restaurant Schiff.\n15:30 h	h.c.t.	Apéro im Garten des Restaurant Schiff\, der Apéro wird durch den Altherrenverband bezahlt.\n16:30 h	h.s.t.	Festcommers mit hochoffiziellem und offiziellem Teil im Bankettsaal des Restaurant Schiff.\n18:30 h	h.c.t.	Kulinarium im Bankettsaal des Restaurant Schiff.
URL:https://twv-helvetia.ch/veranstaltungen/99-stiftungsfest-herrencommers/
LOCATION:Thurgau
END:VEVENT
BEGIN:VEVENT
DTSTART;VALUE=DATE:20190608
DTEND;VALUE=DATE:20190609
DTSTAMP:20260421T120114
CREATED:20190316T122059Z
LAST-MODIFIED:20190316T122059Z
UID:599-1559952000-1560038399@twv-helvetia.ch
SUMMARY:Stiftungsfest B! Bayuvaria
DESCRIPTION:
URL:https://twv-helvetia.ch/veranstaltungen/stiftungsfest-b-bayuvaria/
LOCATION:Thurgau
END:VEVENT
BEGIN:VEVENT
DTSTART;TZID=Europe/Zurich:20190524T200000
DTEND;TZID=Europe/Zurich:20190524T230000
DTSTAMP:20260421T120114
CREATED:20190316T121901Z
LAST-MODIFIED:20190316T121901Z
UID:597-1558728000-1558738800@twv-helvetia.ch
SUMMARY:AC - K2\, Mistral\, Speedy
DESCRIPTION:
URL:https://twv-helvetia.ch/veranstaltungen/ac-k2-mistral-speedy/
LOCATION:Konstante\, Hauptstrasse 38\, Kreuzlingen\, Thurgau\, 8280\, Schweiz
END:VEVENT
END:VCALENDAR